Workbook

Sheet LOTES GERAL
A1: PROJETO DOURADOS DO CINZAS
B2: ÁREA | C2: ITENS | D2: TOTAL | E2: CONTRAPARTIDA
B3: MD(Margem Direita) | C3: MUNICÍPIO/ESTADO | D3: =SUM(D4:D69) -> 1549650 | E3: PPP/LICITAÇÃO
A4: LOTE 1 | B4: 23°51´10.44´´S // 49°57´38.01´´O | C4: A- TOTEM | D4: ='LOTE 1'!F3 -> 31370 | E4: A-ÁGUA/LUZ
A5: SALTO CAVALCANTI | B5: 23°50´59.28´´S //49°57´44.64´´O | C5: B- PONTURPESCA | D5: ='LOTE 1'!F19 -> 66500 | E5: B-CONTROLE DE ACESSO
A6: ÁREA PÚBLICA | C6: C- PIER | D6: ='LOTE 1'!F35 -> 41460 | E6: C-ATENDIMENTO COMERCIAL/PÚBLICO ALVO
C7: D- SINALIZAÇÃO | D7: ='LOTE 1'!F46 -> 7500 | E7: D-SEPARAÇÃO DO LIXO PRODUZIDO
C8: E-ACESSO DE BOA QUALIDADE | D8: MUNICÍPIO | E8: E-INTERNET SATELITAL PARA PÚBLICO E TOTEM
C9: F-RECOLHIMENTO DE LIXO | D9: MUNICÍPIO | E9: F-MOBILIAÇÃO DOS CONTEINERS
C10: G-NIVELAMENTO CONTAINER | D10: MUNICÍPIO | E10: G-SUPORTES PARA INSTALAÇÃO CONTAINER
C11: H-VALETAS E BURACOS PARA FOSSAS SÉPTICAS | D11: MUNICÍPIO | E11: H-ENCANAMENTO E INSTALAÇÃO DE ÁGUA/LUZ/ESGOTO
E12: I- FOSSA SÉPTICA BIODIGESTOR 1.500 L
B13: MD//ME
A14: LOTE 2 | B14: 23°49´49.56´´S //49°56´52.03´´O | C14: A- TOTEM | D14: ='LOTE 2'!F3 -> 31370 | E14: A-ÁGUA/LUZ/SANEAMENTO
A15: ÁREA PRIVADA | B15: 23°49´43.83´´S //49°56´40.17´´O | C15: B- PONTURPESCA | D15: ='LOTE 2'!F18 -> 205500 | E15: B-CONTROLE DE ACESSO
A16: PPP | C16: C- PIER | D16: ='LOTE 2'!F35 -> 41460 | E16: C-ATENDIMENTO COMERCIAL/PÚBLICO ALVO
C17: D- SINALIZAÇÃO | D17: ='LOTE 2'!F46 -> 7500 | E17: D-SEPARAÇÃO DO LIXO PRODUZIDO
C18: E-ACESSO DE BOA QUALIDADE | D18: MUNICÍPIO | E18: E-INTERNET SATELITAL PARA PÚBLICO E TOTEM
C19: F-RECOLHIMENTO DE LIXO | D19: MUNICÍPIO | E19: F-MOBILIAÇÃO DOS CONTEINERS
C20: G-NIVELAMENTO CONTAINER | D20: MUNICÍPIO | E20: G-SUPORTES PARA INSTALAÇÃO CONTAINER
C21: H-VALETAS E BURACOS PARA FOSSAS SÉPTICAS | D21: MUNICÍPIO | E21: H-ENCANAMENTO E INSTALAÇÃO DE ÁGUA/LUZ/ESGOTO
E22: I- FOSSA SÉPTICA BIODIGESTOR 1.500 L
E23: J- PAVIMENTAÇÃO E COBERTURA DE ÁREA DE 15X11 M OU 165 M2
E24: K- RAMPA DE ACESSO - OPCIONAL
B25: MD//ME
A26: LOTE 3 | B26: 23°48´26.47´´S //49°55´53.88´´O | C26: A- TOTEM | D26: ='LOTE 3'!F3 -> 31370 | E26: A-ÁGUA/LUZ/SANEAMENTO
A27: ÁREA PRIVADA | B27: 23°48´23.61´´S//49°56´18.40´´O | C27: B- PONTURPESCA | D27: ='LOTE 3'!F18 -> 205500 | E27: B-CONTROLE DE ACESSO
A28: PPP | C28: C- PIER | D28: ='LOTE 3'!F34 -> 41460 | E28: C-ATENDIMENTO COMERCIAL/PÚBLICO ALVO
C29: D- SINALIZAÇÃO | D29: ='LOTE 3'!F45 -> 7500 | E29: D-SEPARAÇÃO DO LIXO PRODUZIDO
C30: E-ACESSO DE BOA QUALIDADE | D30: MUNICÍPIO | E30: E-INTERNET SATELITAL PARA PÚBLICO E TOTEM
C31: F-RECOLHIMENTO DE LIXO | D31: MUNICÍPIO | E31: F-MOBILIAÇÃO DOS CONTEINERS
C32: G-NIVELAMENTO CONTAINER | D32: MUNICÍPIO | E32: G-SUPORTES PARA INSTALAÇÃO CONTAINER
C33: H-VALETAS E BURACOS PARA FOSSAS SÉPTICAS | D33: MUNICÍPIO | E33: H-ENCANAMENTO E INSTALAÇÃO DE ÁGUA/LUZ/ESGOTO
E34: I- FOSSA SÉPTICA BIODIGESTOR 1.500 L
E35: J- PAVIMENTAÇÃO E COBERTURA DE ÁREA DE 15X11 M OU 165 M2
E36: K- RAMPA DE ACESSO - OPCIONAL
B37: MD
A38: LOTE 4 | B38: 23°47´42.31´´S//49°57´14.30´´O | C38: A- TOTEM | D38: ='LOTE 4'!F3 -> 31370 | E38: A-ÁGUA/LUZ/SANEAMENTO
A39: SALTO SANTA MARIA | B39: 23°47´35.58´´S//49°57´07.80´´O | C39: B- PONTURPESCA | D39: ='LOTE 4'!F18 -> 205500 | E39: B-CONTROLE DE ACESSO
A40: ÁREA PÚBLICA | C40: C- PIER | D40: ='LOTE 4'!F35 -> 41460 | E40: C-ATENDIMENTO COMERCIAL/PÚBLICO ALVO
...

Sheet LOTE 1
A1: LOTE 1 | F1: GERAL | G1: =SUM(F1:F57) -> 146830
A2: A-TOTEM - Pinheiro da Fiscalização | B2: ITEM | C2: VALOR | D2: UN | E2: SUBTOTAL | F2: TOTAL (A)
F3: =SUM(E3:E17) -> 31370
B4: Estrutura Metálica Q50 4 mts aluminio liga estrutural 6351T-6 | C4: 3450 | D4: 1 | E4: =C4*D4 -> 3450
B5: Estrutura cubo 5 faces Treliças Box Truss Q 50 100% alumínio | C5: 1700 | D5: 1 | E5: =C5*D5 -> 1700
B6: Box Truss Q50 Alumínio 1,50 metros Treliça linha pesada | C6: 1300 | D6: 2 | E6: =C6*D6 -> 2600
B7: Suporte Estrutura Box Truss Q20 Aço Carbono 0,60 x 0,60 cm | C7: 465 | D7: 2 | E7: =C7*D7 -> 930
B8: kit sextavado inox 304 unc 5/8x2 c/porca e arruela 10 pcs | C8: 240 | D8: 2 | E8: =C8*D8 -> 480
B9: Chapa de alumínio xadrez 3000x1250x1.20mm-prateado | C9: 840 | D9: 4 | E9: =C9*D9 -> 3360
B10: Arte gráfica para chapa de aluminio | C10: 5000 | D10: 1 | E10: =C10*D10 -> 5000
B11: Base de concreto 1 m3 = h 2 m //L 0,50cm x 0,50cm + ferrangens | C11: 2500 | D11: 1 | E11: =C11*D11 -> 2500
B12: Câmera wi-fi 3mp 360° Full Color Intelbras Externa Im9+Som | C12: 1500 | D12: 1 | E12: =C12*D12 -> 1500
B13: Solar gerador portátil FlashFish E200SP60W 200W solar gerador+60w panel solar | C13: 2300 | D13: 1 | E13: =C13*D13 -> 2300
B14: Kit mini antena Starlink Internet via Satélite com suporte | C14: 1500 | D14: 1 | E14: =C14*D14 -> 1500
B15: Mwin Capa Protetora para Starlink Mini - Acessório Impermeável e Anti-riscos, Case de Silicone Portátil com Design de Bordas Onduladas para Antena de Satélite, Ideal para RV (Preta) | C15: 400 | D15: 1 | E15: =C15*D15 -> 400
... B17: Montagem/mão-de-obra/estrutura base | C17: 5000 | D17: 1 | E17: =C17*D17 -> 5000
F18: TOTAL (B)
A19: B- PONTURPESCA | F19: =SUM(E20:E27) -> 66500
B20: Container 40 pés: banheiro (4 Mas e 4 fem)//ração//limpeza de peixe | C20: 65000 | D20: 0 | E20: =C20*D20 -> 0
B21: Container 40 pés: cozinha industrial//bar | C21: 57000 | D21: 0 | E21: =C21*D21 -> 0
B22: Container 40 pés: Recepção/loja//suíte | C22: 58000 | D22: 1 | E22: =C22*D22 -> 58000
B23: Cobertura metálica- 86 M2 | C23: 0 | D23: 1 | E23: =C23*D23 -> 0
B24: Frete | C24: 4900 | D24: 1 | E24: =C24*D24 -> 4900
B25: Sapatas de encaixe 0,70 x 0,70 x 0,70 | C25: 450 | D25: 8 | E25: =C25*D25 -> 3600
F34: TOTAL (C)
A35: C- PIER | F35: =SUM(E36:E40) -> 41460
B36: Pier plataforma polietileno rotomoldado 2,50 x 1,50 | C36: 5630 | D36: 6 | E36: =C36*D36 -> 33780
B37: Guarda-corpo duas linhas eletroduto galvanizado zincado 1/4 18 m (barra 3 metrosx6x6) | C37: 55 | D37: 36 | E37: =C37*D37 -> 1980
B38: Banco madeira plástica ambiente externo (150 x 78 cm) | C38: 750 | D38: 6 | E38: =C38*D38 -> 4500
B39: Frete | C39: 1200 | D39: 1 | E39: =C39*D39 -> 1200
F45: TOTAL (D)
A46: D-SINALIZAÇÃO | F46: =SUM(E47:E48) -> 7500
B47: Placas de Sinalização 2,00 x 2,50 com suporte de eucalipto tratado | C47: 2500 | D47: 1 | E47: =C47*D47 -> 2500
B48: Placas Indicativas do PONTURPESCA | C48: 2500 | D48: 2 | E48: =C48*D48 -> 5000
G78: 1.2 | H78: 1.2 | I78: 1.2 | J78: 1.2 | K78: 1.2 | L78: 1.2
M79: a-limpeza de peixe
G80: masc | J80: fem | M80: 2.4
F81: 1 | G81: 1.2 | H81: 1.2 | I81: 1.2 | J81: 1.2 | K81: 1.2 | L81: 1.2
F82: 1 | L82: 1
F83: 1 | L83: 1
...

Sheet LOTE 2
A1: LOTE 2 | F1: GERAL | G1: =SUM(F1:F57) -> 285830
A2: A-TOTEM - Pinheiro da Fiscalização | B2: ITEM | C2: VALOR | D2: UN | E2: SUBTOTAL | F2: TOTAL (A)
B3: Estrutura Metálica Q50 4 mts aluminio liga estrutural 6351T-6 | C3: 3450 | D3: 1 | E3: =C3*D3 -> 3450 | F3: =SUM(E3:E17) -> 31370
B4: Estrutura cubo 5 faces Treliças Box Truss Q 50 100% alumínio | C4: 1700 | D4: 1 | E4: =C4*D4 -> 1700
B5: Box Truss Q50 Alumínio 1,50 metros Treliça linha pesada | C5: 1300 | D5: 2 | E5: =C5*D5 -> 2600
B6: Suporte Estrutura Box Truss Q20 Aço Carbono 0,60 x 0,60 cm | C6: 465 | D6: 2 | E6: =C6*D6 -> 930
B7: kit sextavado inox 304 unc 5/8x2 c/porca e arruela 10 pcs | C7: 240 | D7: 2 | E7: =C7*D7 -> 480
B8: Chapa de alumínio xadrez 3000x1250x1.20mm-prateado | C8: 840 | D8: 4 | E8: =C8*D8 -> 3360
B9: Arte gráfica para chapa de aluminio | C9: 5000 | D9: 1 | E9: =C9*D9 -> 5000
B10: Base de concreto 1 m3 = h 2 m //L 0,50cm x 0,50cm + ferrangens | C10: 2500 | D10: 1 | E10: =C10*D10 -> 2500
B11: Câmera wi-fi 3mp 360° Full Color Intelbras Externa Im9+Som | C11: 1500 | D11: 1 | E11: =C11*D11 -> 1500
B12: Solar gerador portátil FlashFish E200SP60W 200W solar gerador+60w panel solar | C12: 2300 | D12: 1 | E12: =C12*D12 -> 2300
B13: Kit mini antena Starlink Internet via Satélite | C13: 1500 | D13: 1 | E13: =C13*D13 -> 1500
A14: Instalação no local | B14: Mwin Capa Protetora para Starlink Mini - Acessório Impermeável e Anti-riscos, Case de Silicone Portátil com Design de Bordas Onduladas para Antena de Satélite, Ideal para RV (Preta) | C14: 400 | D14: 1 | E14: =C14*D14 -> 400
B15: Sistema de alerta de segurança com Sensor De Movimento Estroboscópico Solar, Luz De Advertência Led Vermelha E Azul Piscante Para Ambientes Externos, Alto-Falante Duplo De 129 Db. | C15: 650 | D15: 1 | E15: =C15*D15 -> 650
B16: Montagem/mão-de-obra/estrutura base | C16: 5000 | D16: 1 | E16: =C16*D16 -> 5000
F17: TOTAL (B)
A18: B- PONTURPESCA | F18: =SUM(E19:E26) -> 205500
B19: Container 40 pés: banheiro (4 Mas e 4 fem)//ração//limpeza de peixe | C19: 65000 | D19: 1 | E19: =C19*D19 -> 65000
B20: Container 40 pés: cozinha industrial//bar | C20: 57000 | D20: 1 | E20: =C20*D20 -> 57000
B21: Container 40 pés: Recepção/loja//suíte | C21: 58000 | D21: 1 | E21: =C21*D21 -> 58000
B22: Cobertura metálica- 86 M2 | C22: 0 | D22: 0 | E22: =C22*D22 -> 0
B23: Frete | C23: 4900 | D23: 3 | E23: =C23*D23 -> 14700
B24: Sapatas de encaixe 0,70 x 0,70 x 0,70 | C24: 450 | D24: 24 | E24: =C24*D24 -> 10800
F34: TOTAL (C)
A35: C- PIER | F35: =SUM(E36:E40) -> 41460
B36: Pier plataforma polietileno rotomoldado 2,50 x 1,50 | C36: 5630 | D36: 6 | E36: =C36*D36 -> 33780
B37: Guarda-corpo duas linhas eletroduto galvanizado zincado 1/4 18 m (barra 3 metrosx6x6) | C37: 55 | D37: 36 | E37: =C37*D37 -> 1980
B38: Banco madeira plástica ambiente externo (150 x 78 cm) | C38: 750 | D38: 6 | E38: =C38*D38 -> 4500
B39: Frete | C39: 1200 | D39: 1 | E39: =C39*D39 -> 1200
F45: TOTAL (D)
A46: D-SINALIZAÇÃO | F46: =SUM(E47:E48) -> 7500
B47: Placas de Sinalização 2,00 x 2,50 com suporte de eucalipto tratado | C47: 2500 | D47: 1 | E47: =C47*D47 -> 2500
B48: Placas Indicativas do PONTURPESCA | C48: 2500 | D48: 2 | E48: =C48*D48 -> 5000

Sheet LOTE 3
A1: LOTE 3 | F1: GERAL | G1: =SUM(F1:F56) -> 285830
A2: A-TOTEM - Pinheiro da Fiscalização | C2: VALOR | D2: UN | E2: SUBTOTAL | F2: TOTAL (A)
B3: Estrutura Metálica Q50 4 mts aluminio liga estrutural 6351T-6 | C3: 3450 | D3: 1 | E3: =C3*D3 -> 3450 | F3: =SUM(E3:E17) -> 31370
B4: Estrutura cubo 5 faces Treliças Box Truss Q 50 100% alumínio | C4: 1700 | D4: 1 | E4: =C4*D4 -> 1700
B5: Box Truss Q50 Alumínio 1,50 metros Treliça linha pesada | C5: 1300 | D5: 2 | E5: =C5*D5 -> 2600
B6: Suporte Estrutura Box Truss Q20 Aço Carbono 0,60 x 0,60 cm | C6: 465 | D6: 2 | E6: =C6*D6 -> 930
B7: kit sextavado inox 304 unc 5/8x2 c/porca e arruela 10 pcs | C7: 240 | D7: 2 | E7: =C7*D7 -> 480
B8: Chapa de alumínio xadrez 3000x1250x1.20mm-prateado | C8: 840 | D8: 4 | E8: =C8*D8 -> 3360
B9: Arte gráfica para chapa de aluminio | C9: 5000 | D9: 1 | E9: =C9*D9 -> 5000
B10: Base de concreto 1 m3 = h 2 m //L 0,50cm x 0,50cm + ferrangens | C10: 2500 | D10: 1 | E10: =C10*D10 -> 2500
B11: Câmera wi-fi 3mp 360° Full Color Intelbras Externa Im9+Som | C11: 1500 | D11: 1 | E11: =C11*D11 -> 1500
B12: Solar gerador portátil FlashFish E200SP60W 200W solar gerador+60w panel solar | C12: 2300 | D12: 1 | E12: =C12*D12 -> 2300
B13: Kit mini antena Starlink Internet via Satélite | C13: 1500 | D13: 1 | E13: =C13*D13 -> 1500
B14: Mwin Capa Protetora para Starlink Mini - Acessório Impermeável e Anti-riscos, Case de Silicone Portátil com Design de Bordas Onduladas para Antena de Satélite, Ideal para RV (Preta) | C14: 400 | D14: 1 | E14: =C14*D14 -> 400
B15: Sistema de alerta de segurança com Sensor De Movimento Estroboscópico Solar, Luz De Advertência Led Vermelha E Azul Piscante Para Ambientes Externos, Alto-Falante Duplo De 129 Db. | C15: 650 | D15: 1 | E15: =C15*D15 -> 650
B16: Montagem/mão-de-obra/estrutura base | C16: 5000 | D16: 1 | E16: =C16*D16 -> 5000
F17: TOTAL (B)
A18: B- PONTURPESCA | F18: =SUM(E19:E26) -> 205500
B19: Container 40 pés: banheiro (4 Mas e 4 fem)//ração//limpeza de peixe | C19: 65000 | D19: 1 | E19: =C19*D19 -> 65000
B20: Container 40 pés: cozinha industrial//bar | C20: 57000 | D20: 1 | E20: =C20*D20 -> 57000
B21: Container 40 pés: Recepção/loja//suíte | C21: 58000 | D21: 1 | E21: =C21*D21 -> 58000
B22: Cobertura metálica- 86 M2 | C22: 0 | D22: 1 | E22: =C22*D22 -> 0
B23: Frete | C23: 4900 | D23: 3 | E23: =C23*D23 -> 14700
B24: Sapatas de encaixe 0,70 x 0,70 x 0,70 | C24: 450 | D24: 24 | E24: =C24*D24 -> 10800
F33: TOTAL (C)
A34: C- PIER | F34: =SUM(E35:E40) -> 41460
B35: Pier plataforma rotomoldado 2,50 x 1,50 | C35: 5630 | D35: 6 | E35: =C35*D35 -> 33780
B36: Guarda-corpo duas linhas eletroduto galvanizado zincado 1/4 18 m (barra 3 metrosx6x6) | C36: 55 | D36: 36 | E36: =C36*D36 -> 1980
B37: Banco madeira plástica ambiente externo (150 x 78 cm) | C37: 750 | D37: 6 | E37: =C37*D37 -> 4500
B38: Frete | C38: 1200 | D38: 1 | E38: =C38*D38 -> 1200
F44: TOTAL (D)
F45: =SUM(E46:E47) -> 7500
A46: D-SINALIZAÇÃO | B46: Placas de Sinalização 2,00 x 2,50 com suporte de eucalipto tratado | C46: 2500 | D46: 1 | E46: =C46*D46 -> 2500
B47: Placas Indicativas do PONTURPESCA | C47: 2500 | D47: 2 | E47: =C47*D47 -> 5000

Sheet LOTE 4
A1: LOTE 4 | F1: GERAL | G1: =SUM(F1:F57) -> 285830
A2: A-TOTEM - Pinheiro da Fiscalização | C2: VALOR | D2: UN | E2: SUBTOTAL | F2: TOTAL (A)
B3: Estrutura Metálica Q50 4 mts aluminio liga estrutural 6351T-6 | C3: 3450 | D3: 1 | E3: =C3*D3 -> 3450 | F3: =SUM(E3:E17) -> 31370
B4: Estrutura cubo 5 faces Treliças Box Truss Q 50 100% alumínio | C4: 1700 | D4: 1 | E4: =C4*D4 -> 1700
B5: Box Truss Q50 Alumínio 1,50 metros Treliça linha pesada | C5: 1300 | D5: 2 | E5: =C5*D5 -> 2600
B6: Suporte Estrutura Box Truss Q20 Aço Carbono 0,60 x 0,60 cm | C6: 465 | D6: 2 | E6: =C6*D6 -> 930
B7: kit sextavado inox 304 unc 5/8x2 c/porca e arruela 10 pcs | C7: 240 | D7: 2 | E7: =C7*D7 -> 480
B8: Chapa de alumínio xadrez 3000x1250x1.20mm-prateado | C8: 840 | D8: 4 | E8: =C8*D8 -> 3360
B9: Arte gráfica para chapa de aluminio | C9: 5000 | D9: 1 | E9: =C9*D9 -> 5000
B10: Base de concreto 1 m3 = h 2 m //L 0,50cm x 0,50cm + ferrangens | C10: 2500 | D10: 1 | E10: =C10*D10 -> 2500
B11: Câmera wi-fi 3mp 360° Full Color Intelbras Externa Im9+Som | C11: 1500 | D11: 1 | E11: =C11*D11 -> 1500
B12: Solar gerador portátil FlashFish E200SP60W 200W solar gerador+60w panel solar | C12: 2300 | D12: 1 | E12: =C12*D12 -> 2300
B13: Kit mini antena Starlink Internet via Satélite | C13: 1500 | D13: 1 | E13: =C13*D13 -> 1500
B14: Mwin Capa Protetora para Starlink Mini - Acessório Impermeável e Anti-riscos, Case de Silicone Portátil com Design de Bordas Onduladas para Antena de Satélite, Ideal para RV (Preta) | C14: 400 | D14: 1 | E14: =C14*D14 -> 400
B15: Sistema de alerta de segurança com Sensor De Movimento Estroboscópico Solar, Luz De Advertência Led Vermelha E Azul Piscante Para Ambientes Externos, Alto-Falante Duplo De 129 Db. | C15: 650 | D15: 1 | E15: =C15*D15 -> 650
B16: Montagem/mão-de-obra/estrutura base | C16: 5000 | D16: 1 | E16: =C16*D16 -> 5000
F17: TOTAL (B)
A18: B- PONTURPESCA | F18: =SUM(E19:E26) -> 205500
B19: Container 40 pés: banheiro (4 Mas e 4 fem)//ração//limpeza de peixe | C19: 65000 | D19: 1 | E19: =C19*D19 -> 65000
B20: Container 40 pés: cozinha industrial//bar | C20: 57000 | D20: 1 | E20: =C20*D20 -> 57000
B21: Container 40 pés: Recepção/loja//suíte | C21: 58000 | D21: 1 | E21: =C21*D21 -> 58000
B22: Cobertura metálica- 86 M2 | C22: 0 | D22: 1 | E22: =C22*D22 -> 0
B23: Frete | C23: 4900 | D23: 3 | E23: =C23*D23 -> 14700
B24: Sapatas de encaixe 0,70 x 0,70 x 0,70 | C24: 450 | D24: 24 | E24: =C24*D24 -> 10800
F34: TOTAL (C)
A35: C- PIER | F35: =SUM(E36:E40) -> 41460
B36: Pier plataforma rotomoldado 2,50 x 1,50 | C36: 5630 | D36: 6 | E36: =C36*D36 -> 33780
B37: Guarda-corpo duas linhas eletroduto galvanizado zincado 1/4 18 m (barra 3 metrosx6x6) | C37: 55 | D37: 36 | E37: =C37*D37 -> 1980
B38: Banco madeira plástica ambiente externo (150 x 78 cm) | C38: 750 | D38: 6 | E38: =C38*D38 -> 4500
B39: Frete | C39: 1200 | D39: 1 | E39: =C39*D39 -> 1200
F45: TOTAL (D)
F46: =SUM(E47:E48) -> 7500
A47: D-SINALIZAÇÃO | B47: Placas de Sinalização 2,00 x 2,50 com suporte de eucalipto tratado | C47: 2500 | D47: 1 | E47: =C47*D47 -> 2500
B48: Placas Indicativas do PONTURPESCA | C48: 2500 | D48: 2 | E48: =C48*D48 -> 5000

Sheet LOTE 5
A1: LOTE 5 | F1: GERAL | G1: =SUM(F1:F51) -> 240100
A2: A-TOTEM - Pinheiro da Fiscalização | C2: VALOR | D2: UN | E2: SUBTOTAL | F2: TOTAL (A)
B3: Estrutura Metálica Q50 4 mts aluminio liga estrutural 6351T-6 | C3: 3450 | D3: 1 | E3: =C3*D3 -> 3450 | F3: =SUM(E3:E17) -> 31370
B4: Estrutura cubo 5 faces Treliças Box Truss Q 50 100% alumínio | C4: 1700 | D4: 1 | E4: =C4*D4 -> 1700
B5: Box Truss Q50 Alumínio 1,50 metros Treliça linha pesada | C5: 1300 | D5: 2 | E5: =C5*D5 -> 2600
B6: Suporte Estrutura Box Truss Q20 Aço Carbono 0,60 x 0,60 cm | C6: 465 | D6: 2 | E6: =C6*D6 -> 930
B7: kit sextavado inox 304 unc 5/8x2 c/porca e arruela 10 pcs | C7: 240 | D7: 2 | E7: =C7*D7 -> 480
B8: Chapa de alumínio xadrez 3000x1250x1.20mm-prateado | C8: 840 | D8: 4 | E8: =C8*D8 -> 3360
B9: Arte gráfica para chapa de aluminio | C9: 5000 | D9: 1 | E9: =C9*D9 -> 5000
B10: Base de concreto 1 m3 = h 2 m //L 0,50cm x 0,50cm + ferrangens | C10: 2500 | D10: 1 | E10: =C10*D10 -> 2500
B11: Câmera wi-fi 3mp 360° Full Color Intelbras Externa Im9+Som | C11: 1500 | D11: 1 | E11: =C11*D11 -> 1500
B12: Solar gerador portátil FlashFish E200SP60W 200W solar gerador+60w panel solar | C12: 2300 | D12: 1 | E12: =C12*D12 -> 2300
B13: Kit mini antena Starlink Internet via Satélite | C13: 1500 | D13: 1 | E13: =C13*D13 -> 1500
B14: Mwin Capa Protetora para Starlink Mini - Acessório Impermeável e Anti-riscos, Case de Silicone Portátil com Design de Bordas Onduladas para Antena de Satélite, Ideal para RV (Preta) | C14: 400 | D14: 1 | E14: =C14*D14 -> 400
B15: Sistema de alerta de segurança com Sensor De Movimento Estroboscópico Solar, Luz De Advertência Led Vermelha E Azul Piscante Para Ambientes Externos, Alto-Falante Duplo De 129 Db. | C15: 650 | D15: 1 | E15: =C15*D15 -> 650
B16: Montagem/mão-de-obra/estrutura base | C16: 5000 | D16: 1 | E16: =C16*D16 -> 5000
F17: TOTAL (B)
A18: B- PONTURPESCA | F18: =SUM(E19:E26) -> 159770
B19: Container 40 pés: banheiro (4 Mas e 4 fem)//ração//limpeza de peixe | C19: 65000 | D19: 0 | E19: =C19*D19 -> 0
B20: Container 40 pés: cozinha industrial//bar | C20: 57000 | D20: 0 | E20: =C20*D20 -> 0
B21: Container 40 pés: Recepção/loja//suíte | C21: 58000 | D21: 0 | E21: =C21*D21 -> 0
B22: Cobertura metálica- 86 M2 | C22: 0 | D22: 0 | E22: =C22*D22 -> 0
B23: Frete | C23: 4900 | D23: 0 | E23: =C23*D23 -> 0
B24: Sapatas de encaixe 0,70 x 0,70 x 0,70 | C24: 450 | D24: 0 | E24: =C24*D24 -> 0
B25: Tela galvanizada para alambrado 2,00 x 480 metros = 960 | C25: 150 | D25: 960 | E25: =C25*D25 -> 144000
B26: Poste de concreto 2,50 | C26: 95 | D26: 166 | E26: =C26*D26 -> 15770
B27: Viga baldrame | C27: 180 | D27: 500 | E27: =C27*D27 -> 90000
F28: TOTAL (C)
A29: C- PIER | F29: =SUM(E30:E34) -> 41460
B30: Pier plataforma rotomoldado 2,50 x 1,50 | C30: 5630 | D30: 6 | E30: =C30*D30 -> 33780
B31: Guarda-corpo duas linhas eletroduto galvanizado zincado 1/4 18 m (barra 3 metrosx6x6) | C31: 55 | D31: 36 | E31: =C31*D31 -> 1980
B32: Banco madeira plástica ambiente externo (150 x 78 cm) | C32: 750 | D32: 6 | E32: =C32*D32 -> 4500
B33: Frete | C33: 1200 | D33: 1 | E33: =C33*D33 -> 1200
F39: TOTAL (D)
F40: =SUM(E41:E42) -> 7500
A41: D-SINALIZAÇÃO | B41: Placas de Sinalização 2,00 x 2,50 com suporte de eucalipto tratado | C41: 2500 | D41: 1 | E41: =C41*D41 -> 2500
B42: Placas Indicativas do PONTURPESCA | C42: 2500 | D42: 2 | E42: =C42*D42 -> 5000

Sheet LOTE 0
A1: LOTE ZERO | F1: GERAL | G1: =SUM(F1:F51) -> 41460
A2: A-TOTEM - Pinheiro da Fiscalização | C2: VALOR | D2: UN | E2: SUBTOTAL | F2: TOTAL (A)
B3: Estrutura Metálica Q50 4 mts aluminio liga estrutural 6351T-6 | C3: 3450 | D3: 0 | E3: =C3*D3 -> 0 | F3: =SUM(E3:E17) -> 0
B4: Estrutura cubo 5 faces Treliças Box Truss Q 50 100% alumínio | C4: 1700 | D4: 0 | E4: =C4*D4 -> 0
B5: Box Truss Q50 Alumínio 1,50 metros Treliça linha pesada | C5: 1300 | D5: 0 | E5: =C5*D5 -> 0
B6: Suporte Estrutura Box Truss Q20 Aço Carbono 0,60 x 0,60 cm | C6: 465 | D6: 0 | E6: =C6*D6 -> 0
B7: kit sextavado inox 304 unc 5/8x2 c/porca e arruela 10 pcs | C7: 240 | D7: 0 | E7: =C7*D7 -> 0
B8: Chapa de alumínio xadrez 3000x1250x1.20mm-prateado | C8: 840 | D8: 0 | E8: =C8*D8 -> 0
B9: Arte gráfica para chapa de aluminio | C9: 5000 | D9: 0 | E9: =C9*D9 -> 0
B10: Base de concreto 2 metros x 0,50cm | C10: 2500 | D10: 0 | E10: =C10*D10 -> 0
B11: Câmera wi-fi 3mp 360° Full Color Intelbras Externa Im9+Som | C11: 1000 | D11: 0 | E11: =C11*D11 -> 0
B12: Solar gerador portátil FlashFish E200SP60W 200W solar gerador+60w panel solar | C12: 1560 | D12: 0 | E12: =C12*D12 -> 0
B13: Kit mini antena Starlink Internet via Satélite | C13: 715 | D13: 0 | E13: =C13*D13 -> 0
B14: Mwin Capa Protetora para Starlink Mini - Acessório Impermeável e Anti-riscos, Case de Silicone Portátil com Design de Bordas Onduladas para Antena de Satélite, Ideal para RV (Preta) | C14: 200 | D14: 0 | E14: =C14*D14 -> 0
B15: Sistema de alerta de segurança com Sensor De Movimento Estroboscópico Solar, Luz De Advertência Led Vermelha E Azul Piscante Para Ambientes Externos, Alto-Falante Duplo De 129 Db. | C15: 500 | D15: 0 | E15: =C15*D15 -> 0
B16: Montagem/mão-de-obra/estrutura base | C16: 5000 | D16: 0 | E16: =C16*D16 -> 0
F17: TOTAL (B)
A18: B- PONTURPESCA | F18: =SUM(E19:E26) -> 0
B19: Container 40 pés: banheiro (4 Mas e 4 fem)//ração//limpeza de peixe | C19: 65000 | D19: 0 | E19: =C19*D19 -> 0
B20: Container 40 pés: cozinha industrial//bar | C20: 57000 | D20: 0 | E20: =C20*D20 -> 0
B21: Container 40 pés: Recepção/loja//suíte | C21: 58000 | D21: 0 | E21: =C21*D21 -> 0
B22: Cobertura metálica- 86 M2 | C22: 0 | D22: 0 | E22: =C22*D22 -> 0
B23: Frete | C23: 4900 | D23: 0 | E23: =C23*D23 -> 0
B24: Sapatas de encaixe 0,70 x 0,70 x 0,70 | C24: 450 | D24: 0 | E24: =C24*D24 -> 0
B25: Tela galvanizada para alambrado 2,00 x 480 metros = 960 | C25: 150 | D25: 0 | E25: =C25*D25 -> 0
B26: Poste de concreto 2,50 | C26: 95 | D26: 0 | E26: =C26*D26 -> 0
B27: Viga baldrame | C27: 180 | D27: 0 | E27: =C27*D27 -> 0
F28: TOTAL (C)
A29: C- PIER | F29: =SUM(E30:E34) -> 41460
B30: Pier plataforma rotomoldado 2,50 x 1,50 | C30: 5630 | D30: 6 | E30: =C30*D30 -> 33780
B31: Guarda-corpo duas linhas eletroduto galvanizado zincado 1/4 18 m (barra 3 metrosx6x6) | C31: 55 | D31: 36 | E31: =C31*D31 -> 1980
B32: Banco madeira plástica ambiente externo (150 x 78 cm) | C32: 750 | D32: 6 | E32: =C32*D32 -> 4500
B33: Frete | C33: 1200 | D33: 1 | E33: =C33*D33 -> 1200
F39: TOTAL (D)
F40: =SUM(E41:E42) -> 0
A41: D-SINALIZAÇÃO | B41: Placas de Sinalização 2,00 x 2,50 com suporte de eucalipto tratado | C41: 2500 | D41: 0 | E41: =C41*D41 -> 0
B42: Placas Indicativas do PONTURPESCA | C42: 2500 | D42: 0 | E42: =C42*D42 -> 0

Sheet ESCOLA
A1: LOTE ZERO | F1: GERAL | G1: =SUM(F1:F51) -> 263770
A2: A-TOTEM - Pinheiro da Fiscalização | C2: VALOR | D2: UN | E2: SUBTOTAL | F2: TOTAL (A)
B3: Estrutura Metálica Q50 4 mts aluminio liga estrutural 6351T-6 | C3: 3450 | D3: 1 | E3: =C3*D3 -> 3450 | F3: =SUM(E3:E17) -> 31370
B4: Estrutura cubo 5 faces Treliças Box Truss Q 50 100% alumínio | C4: 1700 | D4: 1 | E4: =C4*D4 -> 1700
B5: Box Truss Q50 Alumínio 1,50 metros Treliça linha pesada | C5: 1300 | D5: 2 | E5: =C5*D5 -> 2600
B6: Suporte Estrutura Box Truss Q20 Aço Carbono 0,60 x 0,60 cm | C6: 465 | D6: 2 | E6: =C6*D6 -> 930
B7: kit sextavado inox 304 unc 5/8x2 c/porca e arruela 10 pcs | C7: 240 | D7: 2 | E7: =C7*D7 -> 480
B8: Chapa de alumínio xadrez 3000x1250x1.20mm-prateado | C8: 840 | D8: 4 | E8: =C8*D8 -> 3360
B9: Arte gráfica para chapa de aluminio | C9: 5000 | D9: 1 | E9: =C9*D9 -> 5000
B10: Base de concreto 2 metros x 0,50cm | C10: 2500 | D10: 1 | E10: =C10*D10 -> 2500
B11: Câmera wi-fi 3mp 360° Full Color Intelbras Externa Im9+Som | C11: 1500 | D11: 1 | E11: =C11*D11 -> 1500
B12: Solar gerador portátil FlashFish E200SP60W 200W solar gerador+60w panel solar | C12: 2300 | D12: 1 | E12: =C12*D12 -> 2300
B13: Kit mini antena Starlink Internet via Satélite | C13: 1500 | D13: 1 | E13: =C13*D13 -> 1500
B14: Mwin Capa Protetora para Starlink Mini - Acessório Impermeável e Anti-riscos, Case de Silicone Portátil com Design de Bordas Onduladas para Antena de Satélite, Ideal para RV (Preta) | C14: 400 | D14: 1 | E14: =C14*D14 -> 400
B15: Sistema de alerta de segurança com Sensor De Movimento Estroboscópico Solar, Luz De Advertência Led Vermelha E Azul Piscante Para Ambientes Externos, Alto-Falante Duplo De 129 Db. | C15: 650 | D15: 1 | E15: =C15*D15 -> 650
B16: Montagem/mão-de-obra/estrutura base | C16: 5000 | D16: 1 | E16: =C16*D16 -> 5000
F17: TOTAL (B)
A18: B- ESCOLA PESCA E CANOAGEM | F18: =SUM(E19:E26) -> 129200
B19: Container 40 pés: banheiro (4 Mas e 4 fem)//ração//limpeza de peixe | C19: 65000 | D19: 0 | E19: =C19*D19 -> 0
B20: Container 40 pés: cozinha transformados para guarda de equipamentos | C20: 57000 | D20: 2 | E20: =C20*D20 -> 114000
B21: Container 40 pés: Recepção/loja//suíte | C21: 58000 | D21: 0 | E21: =C21*D21 -> 0
B22: Cobertura metálica- 86 M2 | C22: 0 | D22: 0 | E22: =C22*D22 -> 0
B23: Frete | C23: 4900 | D23: 2 | E23: =C23*D23 -> 9800
B24: Sapatas de encaixe 0,70 x 0,70 x 0,70 | C24: 450 | D24: 12 | E24: =C24*D24 -> 5400
B25: Tela galvanizada para alambrado 2,00 x 480 metros = 960 | C25: 150 | D25: 0 | E25: =C25*D25 -> 0
B26: Poste de concreto 2,50 | C26: 95 | D26: 0 | E26: =C26*D26 -> 0
B27: Viga baldrame | C27: 180 | D27: 0 | E27: =C27*D27 -> 0
F28: TOTAL (C)
A29: C- PIER | F29: =SUM(E30:E34) -> 95700
B30: Pier plataforma concreto 50,00 x 1,50 =75 m2 x R$ 600,00 | C30: 45000 | D30: 2 | E30: =C30*D30 -> 90000
B31: Guarda-corpo duas linhas eletroduto galvanizado zincado 1/4 18 m (barra 3 metrosx6x6) | C31: 55 | D31: 0 | E31: =C31*D31 -> 0
B32: Banco madeira plástica ambiente externo (150 x 78 cm) | C32: 750 | D32: 6 | E32: =C32*D32 -> 4500
B33: Frete | C33: 1200 | D33: 1 | E33: =C33*D33 -> 1200
F39: TOTAL (D)
F40: =SUM(E41:E42) -> 7500
A41: D-SINALIZAÇÃO | B41: Placas de Sinalização 2,00 x 2,50 com suporte de eucalipto tratado | C41: 2500 | D41: 1 | E41: =C41*D41 -> 2500
B42: Placas Indicativas do PONTURPESCA | C42: 2500 | D42: 2 | E42: =C42*D42 -> 5000

Sheet PARANÁ+INFRA
A1: ITEM | B1: LOTE 1 | C1: LOTE 2 | D1: LOTE 3 | E1: LOTE 4 | F1: LOTE 5 | G1: LOTE 0 | H1: ESCOLA | I1: UN | J1: VLR | K1: SUBTOTAL | L1: PARANÁ MAIS INFRA
A2: Totem | B2: 1 | C2: 1 | D2: 1 | E2: 1 | F2: 1 | G2: 0 | H2: 1 | I2: =SUM(B2:H2) -> 6 | J2: ='LOTE 2'!F3 -> 31370 | K2: =I2*J2 -> 188220 | L2: Equipamentos
A3: Container 40 pés: banheiro (4 Mas e 4 fem)//ração//limpeza de peixe | B3: 0 | C3: 1 | D3: 1 | E3: 1 | F3: 0 | G3: 0 | H3: 0 | I3: =SUM(B3:H3) -> 3 | J3: ='LOTE 2'!C19 -> 65000 | K3: =I3*J3 -> 195000 | L3: Equipamentos
A4: Container 40 pés: cozinha industrial//bar | B4: 0 | C4: 1 | D4: 1 | E4: 1 | F4: 0 | G4: 0 | H4: 2 | I4: =SUM(B4:H4) -> 5 | J4: ='LOTE 2'!C20 -> 57000 | K4: =I4*J4 -> 285000 | L4: Equipamentos
A5: Container 40 pés: Recepção/loja//suíte | B5: 1 | C5: 1 | D5: 1 | E5: 1 | F5: 0 | G5: 0 | H5: 0 | I5: =SUM(B5:H5) -> 4 | J5: ='LOTE 2'!C21 -> 58000 | K5: =I5*J5 -> 232000 | L5: Equipamentos
A6: Sapatas de encaixe | B6: 8 | C6: 24 | D6: 24 | E6: 24 | F6: 0 | G6: 0 | H6: 12 | I6: =SUM(B6:H6) -> 92 | J6: ='LOTE 2'!C24 -> 450 | K6: =I6*J6 -> 41400 | L6: Equipamentos(?)
A7: Frete | B7: 1 | C7: 3 | D7: 3 | E7: 3 | F7: 0 | G7: 0 | H7: 2 | I7: =SUM(B7:H7) -> 12 | J7: ='LOTE 2'!C23 -> 4900 | K7: =I7*J7 -> 58800 | L7: (inserido no valor do móvel?)
A8: Pier rotomoldado | B8: 1 | C8: 1 | D8: 1 | E8: 1 | F8: 1 | G8: 1 | H8: 0 | I8: =SUM(B8:H8) -> 6 | J8: ='LOTE 2'!F35 -> 41460 | K8: =I8*J8 -> 248760 | L8: Equipamentos
A9: Pier de concreto | B9: 0 | C9: 0 | D9: 0 | E9: 0 | F9: 0 | G9: 0 | H9: 1 | I9: 1 | J9: =ESCOLA!F29 -> 95700 | K9: =I9*J9 -> 95700 | L9: Equipamentos(?)
A10: Tela galvanizada | B10: 0 | C10: 0 | D10: 0 | E10: 0 | F10: 1 | G10: 0 | H10: 0 | I10: =SUM(B10:H10) -> 1 | J10: ='LOTE 5'!F18 -> 159770 | K10: =I10*J10 -> 159770 | L10: Equipamentos
A11: Placas de Sinalização 2,00 x 2,50 com suporte de eucalipto tratado | B11: 1 | C11: 1 | D11: 1 | E11: 1 | F11: 1 | G11: 0 | H11: 1 | I11: =SUM(B11:H11) -> 6 | J11: ='LOTE 2'!C47 -> 2500 | K11: =I11*J11 -> 15000 | L11: Sinalização
A12: Placas Indicativas do PONTURPESCA | B12: 2 | C12: 2 | D12: 2 | E12: 2 | F12: 2 | G12: 0 | H12: 2 | I12: =SUM(B12:H12) -> 12 | J12: ='LOTE 2'!C48 -> 2500 | K12: =I12*J12 -> 30000 | L12: Sinalização
A13: TOTAL | K13: =SUM(K2:K12) -> 1549650
